BEGIN:VCALENDAR
VERSION:2.0
PRODID:-//Treibhaus Döbeln - ECPv6.15.13//NONSGML v1.0//EN
CALSCALE:GREGORIAN
METHOD:PUBLISH
X-WR-CALNAME:Treibhaus Döbeln
X-ORIGINAL-URL:https://treibhaus-doebeln.de
X-WR-CALDESC:Veranstaltungen für Treibhaus Döbeln
REFRESH-INTERVAL;VALUE=DURATION:PT1H
X-Robots-Tag:noindex
X-PUBLISHED-TTL:PT1H
BEGIN:VTIMEZONE
TZID:Europe/Berlin
BEGIN:DAYLIGHT
TZOFFSETFROM:+0100
TZOFFSETTO:+0200
TZNAME:CEST
DTSTART:20210328T010000
END:DAYLIGHT
BEGIN:STANDARD
TZOFFSETFROM:+0200
TZOFFSETTO:+0100
TZNAME:CET
DTSTART:20211031T010000
END:STANDARD
BEGIN:DAYLIGHT
TZOFFSETFROM:+0100
TZOFFSETTO:+0200
TZNAME:CEST
DTSTART:20220327T010000
END:DAYLIGHT
BEGIN:STANDARD
TZOFFSETFROM:+0200
TZOFFSETTO:+0100
TZNAME:CET
DTSTART:20221030T010000
END:STANDARD
BEGIN:DAYLIGHT
TZOFFSETFROM:+0100
TZOFFSETTO:+0200
TZNAME:CEST
DTSTART:20230326T010000
END:DAYLIGHT
BEGIN:STANDARD
TZOFFSETFROM:+0200
TZOFFSETTO:+0100
TZNAME:CET
DTSTART:20231029T010000
END:STANDARD
END:VTIMEZONE
BEGIN:VEVENT
DTSTART;TZID=Europe/Berlin:20221103T190000
DTEND;TZID=Europe/Berlin:20221103T203000
DTSTAMP:20260423T220408
CREATED:20221005T140650Z
LAST-MODIFIED:20221025T140107Z
UID:12622-1667502000-1667507400@treibhaus-doebeln.de
SUMMARY:Kurs: Umgang mit diskriminierenden Aussagen
DESCRIPTION:Was mache ich mit Aussagen\, die ich schwierig\, rassistisch oder antisemitisch finde? Manchmal fällt es nicht leicht\, im eigenen Umfeld gut darauf zu reagieren.\nNutzen Sie den Kurs\, um\n– die Hintergründe solcher Aussagen zu erkennen\n– zu einer eigenen Haltung zu finden\n– konkrete Ideen zu finden\, wie Sie reagieren können. \n⏰ Zeit \n03. November\n19.00 bis 20.30 Uhr \n🏡 Ort \nCafé Courage\nBahnhofstraße 56\n04720 Döbeln \n📝Anmeldung \nDies ist eine Veranstaltung der Volkshochschule. Bei Interesse bitten wir um Anmeldung direkt bei der VHS Mittelsachsen. \n  \nDiese Maßnahme wird mitfinanziert durch Steuermittel auf der Grundlage des vom Sächsischen Landtag beschlossenen Haushaltes.
URL:https://treibhaus-doebeln.de/event/kurs-umgang-mit-diskriminierenden-aussagen/
LOCATION:Café Courage\, Bahnhofstraße 56\, Döbeln\, Sachsen\, 04720\, Deutschland
END:VEVENT
END:VCALENDAR