BEGIN:VCALENDAR
VERSION:2.0
PRODID:-//Treibhaus Döbeln - ECPv6.15.13//NONSGML v1.0//EN
CALSCALE:GREGORIAN
METHOD:PUBLISH
X-WR-CALNAME:Treibhaus Döbeln
X-ORIGINAL-URL:https://treibhaus-doebeln.de
X-WR-CALDESC:Veranstaltungen für Treibhaus Döbeln
REFRESH-INTERVAL;VALUE=DURATION:PT1H
X-Robots-Tag:noindex
X-PUBLISHED-TTL:PT1H
BEGIN:VTIMEZONE
TZID:Europe/Berlin
BEGIN:DAYLIGHT
TZOFFSETFROM:+0100
TZOFFSETTO:+0200
TZNAME:CEST
DTSTART:20210328T010000
END:DAYLIGHT
BEGIN:STANDARD
TZOFFSETFROM:+0200
TZOFFSETTO:+0100
TZNAME:CET
DTSTART:20211031T010000
END:STANDARD
BEGIN:DAYLIGHT
TZOFFSETFROM:+0100
TZOFFSETTO:+0200
TZNAME:CEST
DTSTART:20220327T010000
END:DAYLIGHT
BEGIN:STANDARD
TZOFFSETFROM:+0200
TZOFFSETTO:+0100
TZNAME:CET
DTSTART:20221030T010000
END:STANDARD
BEGIN:DAYLIGHT
TZOFFSETFROM:+0100
TZOFFSETTO:+0200
TZNAME:CEST
DTSTART:20230326T010000
END:DAYLIGHT
BEGIN:STANDARD
TZOFFSETFROM:+0200
TZOFFSETTO:+0100
TZNAME:CET
DTSTART:20231029T010000
END:STANDARD
END:VTIMEZONE
BEGIN:VEVENT
DTSTART;TZID=Europe/Berlin:20221028T100000
DTEND;TZID=Europe/Berlin:20221028T170000
DTSTAMP:20260424T113441
CREATED:20220818T125224Z
LAST-MODIFIED:20220831T131431Z
UID:12336-1666951200-1666976400@treibhaus-doebeln.de
SUMMARY:Workshop: How to stream
DESCRIPTION:Workshop: How to stream \nMit diesem praktischen Workshop geben wir Euch Einblick in die Streamingtechnik und Ihr könnt selbst das Mischpult steuern\, die Regie und verschiedene Kameras kennnenlernen. In den sechs Stunden zeigen wir euch an einem echten Set\, was wie verkabelt wird. Welche Technik\, von günstig bis pro\, eingesetzt werden kann und was beim Stream beachtet werden sollte. Als Streaming-Software nutzen wir OBS (kostenlos)\, sodass ihr auch zu Hause oder in eurem Verein loslegen könnt. Tipps\, Tricks und weitere Technik zeigen wir euch je nach Bedarf und Nachfrage. \n⏰ Zeit\n28. Oktober\n10.00 – 17.00 Uhr \n🏡 Ort\nCafé Courage\nBahnhofstraße 56\n04720 Döbeln \n📝Anmeldung\nBitte schreibt oder ruft uns kurz an\, wenn ihr teilnehmen wollt: \nJohannes Fischer & Johannes Gersten\nMail: spektrum3000@treibhaus-doebeln.de\nWhatsApp & Telegram: +49 (0) 1575 / 0888 948\nFon: +49 (0) 3431 / 67 87 403 \nWir sind im Raum Döbeln\, Riesa und Oschatz für Sie unterwegs und wollen vor Ort mit unseren Angeboten die Medienkompetenz in Mittelsachsen stärken. Zu diesem Zweck bieten wir eine breite Auswahl an Veranstaltungen\, aus der Sie sich\, die für Sie passende\, auswählen können. Von Workshops & Kursen\, über Beratungsangebote\, bis hin zu Vorträgen können wir alles realisieren\, was Sie sich wünschen. Schauen Sie gern auf unsere Projektseite\, auch neue und individuelle Ideen können wir mit Ihnen angehen. \nDas Projekt Spektrum3000 wird von der Sächsischen Landesanstalt für privaten Rundfunk und neue Medien gefördert. \n📅 Weitere Medienbildungsangebote finden Sie hier 📅 \nDas Projekt Spektrum3000 wird von der Sächsischen Landesanstalt für privaten Rundfunk und neue Medien gefördert.
URL:https://treibhaus-doebeln.de/event/workshop-how-to-stream/
LOCATION:Café Courage\, Bahnhofstraße 56\, Döbeln\, Sachsen\, 04720\, Deutschland
CATEGORIES:Fortbildung,Kurs,Workshop
ATTACH;FMTTYPE=image/png:https://treibhaus-doebeln.de/wp-content/uploads/2022/08/How-to-Stream.png
ORGANIZER;CN="Treibhaus e.V. D%C3%B6beln":MAILTO:info@treibhaus-doebeln.de
END:VEVENT
BEGIN:VEVENT
DTSTART;TZID=Europe/Berlin:20221028T190000
DTEND;TZID=Europe/Berlin:20221029T190000
DTSTAMP:20260424T113441
CREATED:20220831T132233Z
LAST-MODIFIED:20220921T121833Z
UID:12467-1666983600-1667070000@treibhaus-doebeln.de
SUMMARY:Film: Shoah
DESCRIPTION:Film: Shoah\nMit dem Dokumentarfilm „Shoah“ legte Claude Lanzmann 1985 ein in elfjähriger Arbeit entstandenes Werk vor\, dass dem Holocaust in Gesprächen mit Zeitzeug*innen nachspürt. Dabei verzichtete er völlig auf den Einsatz von Archiv-Material\, allein in den Erinnerungen werden Ereignisse und Erfahrungen vorgestellt. \nDer Produktionsprozess des Filmes war nicht nur eine extreme Herausforderung für die Beteiligten\, sondern ist mit seinen neun Stunden Länge auch für heutige Zuschauer*innen anspruchsvoll. Für aktuelle Rezeptionsgewohnheiten ist der Film in mehrfacher Hinsicht verstörend. \nWir werden an dem Wochenende daher nicht nur den Film sehen\, sondern uns auch kritisch mit Kamera- und Gesprächsführung auseinandersetzen. Dabei kommen wir nicht umhin\, uns mit der Geschichte der postnazistischen Gesellschaften zu beschäftigen\, in die der Film interveniert(e). Pausen und Achtsamkeit\, Fragen und Besinnung werden wichtige Elemente des Seminars sein. \nEine Veranstaltung der AG Geschichte mit Uwe Hirschfeld. \nFreitag\, 28. Oktober: 19.00 bis 23.00 Uhr\nSamstag\, 29. Oktober: 13.00 bis 19.00 Uhr \nDer Eintritt ist frei.
URL:https://treibhaus-doebeln.de/event/film-shoah/
LOCATION:Café Courage\, Bahnhofstraße 56\, Döbeln\, Sachsen\, 04720\, Deutschland
CATEGORIES:Film,Gespräch
ATTACH;FMTTYPE=image/jpeg:https://treibhaus-doebeln.de/wp-content/uploads/2022/08/20221028_FilmShoah_Veranstaltung-Website-scaled.jpg
ORGANIZER;CN="Treibhaus e.V. D%C3%B6beln":MAILTO:info@treibhaus-doebeln.de
END:VEVENT
END:VCALENDAR