BEGIN:VCALENDAR
VERSION:2.0
PRODID:-//Treibhaus Döbeln - ECPv6.15.13//NONSGML v1.0//EN
CALSCALE:GREGORIAN
METHOD:PUBLISH
X-ORIGINAL-URL:https://treibhaus-doebeln.de
X-WR-CALDESC:Veranstaltungen für Treibhaus Döbeln
REFRESH-INTERVAL;VALUE=DURATION:PT1H
X-Robots-Tag:noindex
X-PUBLISHED-TTL:PT1H
BEGIN:VTIMEZONE
TZID:Europe/Berlin
BEGIN:DAYLIGHT
TZOFFSETFROM:+0100
TZOFFSETTO:+0200
TZNAME:CEST
DTSTART:20210328T010000
END:DAYLIGHT
BEGIN:STANDARD
TZOFFSETFROM:+0200
TZOFFSETTO:+0100
TZNAME:CET
DTSTART:20211031T010000
END:STANDARD
BEGIN:DAYLIGHT
TZOFFSETFROM:+0100
TZOFFSETTO:+0200
TZNAME:CEST
DTSTART:20220327T010000
END:DAYLIGHT
BEGIN:STANDARD
TZOFFSETFROM:+0200
TZOFFSETTO:+0100
TZNAME:CET
DTSTART:20221030T010000
END:STANDARD
BEGIN:DAYLIGHT
TZOFFSETFROM:+0100
TZOFFSETTO:+0200
TZNAME:CEST
DTSTART:20230326T010000
END:DAYLIGHT
BEGIN:STANDARD
TZOFFSETFROM:+0200
TZOFFSETTO:+0100
TZNAME:CET
DTSTART:20231029T010000
END:STANDARD
END:VTIMEZONE
BEGIN:VEVENT
DTSTART;TZID=Europe/Berlin:20221027T183000
DTEND;TZID=Europe/Berlin:20221027T203000
DTSTAMP:20260424T113623
CREATED:20220831T130156Z
LAST-MODIFIED:20221024T085729Z
UID:12461-1666895400-1666902600@treibhaus-doebeln.de
SUMMARY:Provinzplenum
DESCRIPTION:Provinzplenum\nWas spielt’n sich hier ab?\nWas willst du in deiner Region verändern? Welche Ideen hast du\, Kultur in deiner Stadt mitzugestalten? Was braucht es\, um das Hinterland ein bisschen aufzurütteln? Und wie kann der Treibhaus e.V. dabei helfen? In unserer offenen Sitzung diskutieren wir über den Verein\, gemeinsame Aktionen und Pläne. Selbstverständlich musst du auch nicht zwingend ein Mitglied sein\, um Vorschläge einzubringen. Gleichzeitig wollen wir euch über Neuerungen und Vorgänge aus dem Team informieren und die Möglichkeit geben\, diese mit zu entscheiden. Werdet aktiv und beteiligt euch! \nBeginn: 18.30 Uhr
URL:https://treibhaus-doebeln.de/event/provinzplenum-19/
LOCATION:Café Courage\, Bahnhofstraße 56\, Döbeln\, Sachsen\, 04720\, Deutschland
CATEGORIES:Diskussion,Gespräch
ATTACH;FMTTYPE=image/jpeg:https://treibhaus-doebeln.de/wp-content/uploads/2022/08/2022_Provinzplenum-Webiste.jpg
ORGANIZER;CN="Treibhaus e.V. D%C3%B6beln":MAILTO:info@treibhaus-doebeln.de
END:VEVENT
END:VCALENDAR