BEGIN:VCALENDAR
VERSION:2.0
PRODID:-//Treibhaus Döbeln - ECPv6.15.13//NONSGML v1.0//EN
CALSCALE:GREGORIAN
METHOD:PUBLISH
X-WR-CALNAME:Treibhaus Döbeln
X-ORIGINAL-URL:https://treibhaus-doebeln.de
X-WR-CALDESC:Veranstaltungen für Treibhaus Döbeln
REFRESH-INTERVAL;VALUE=DURATION:PT1H
X-Robots-Tag:noindex
X-PUBLISHED-TTL:PT1H
BEGIN:VTIMEZONE
TZID:Europe/Berlin
BEGIN:DAYLIGHT
TZOFFSETFROM:+0100
TZOFFSETTO:+0200
TZNAME:CEST
DTSTART:20210328T010000
END:DAYLIGHT
BEGIN:STANDARD
TZOFFSETFROM:+0200
TZOFFSETTO:+0100
TZNAME:CET
DTSTART:20211031T010000
END:STANDARD
BEGIN:DAYLIGHT
TZOFFSETFROM:+0100
TZOFFSETTO:+0200
TZNAME:CEST
DTSTART:20220327T010000
END:DAYLIGHT
BEGIN:STANDARD
TZOFFSETFROM:+0200
TZOFFSETTO:+0100
TZNAME:CET
DTSTART:20221030T010000
END:STANDARD
BEGIN:DAYLIGHT
TZOFFSETFROM:+0100
TZOFFSETTO:+0200
TZNAME:CEST
DTSTART:20230326T010000
END:DAYLIGHT
BEGIN:STANDARD
TZOFFSETFROM:+0200
TZOFFSETTO:+0100
TZNAME:CET
DTSTART:20231029T010000
END:STANDARD
END:VTIMEZONE
BEGIN:VEVENT
DTSTART;TZID=Europe/Berlin:20221013T180000
DTEND;TZID=Europe/Berlin:20221013T210000
DTSTAMP:20260424T113532
CREATED:20220831T124030Z
LAST-MODIFIED:20220921T092212Z
UID:12459-1665684000-1665694800@treibhaus-doebeln.de
SUMMARY:Vortrag: Die Familien Brock und Kosterlitz - Juden und Jüdinnen in Waldheim und Mittweida
DESCRIPTION:Die Familien Brock und Kosterlitz\nEin Exkurs in die Welt der Juden und Jüdinnen in Waldheim und Mittweida\nVortrag & Gespräch mit Dr. Jürgen Nitsche\nAls das „Leipziger Tageblatt“ die Namen derjenigen Städte und Orte im Königreich Sachsen veröffentlichte\, in denen laut der Volkszählung von 1895 mehr als 20 Juden gemeldet waren\, befand sich die Stadt Waldheim nicht darunter. Wie viele Juden es damals in der Stadt gab\, kann nicht mit Bestimmtheit gesagt werden. Der Kaufmann Jacob Sachs hatte die Stadt zu diesem Zeitpunkt gemeinsam mit seiner Ehefrau Johanna und ihrer hier geborenen Tochter Gertrud bereits verlassen\, möglicherweise in Richtung in Berlin. In der Nachbarstadt Mittweida lebten damals 41 Juden. Zu den jüdischen Familien\, die in beiden Städten Spuren hinterließen\, gehörten die Familien Brock und Kosterlitz. Daher sollen beide Familien in einem Vortrag vorgestellt werden. \nBeginn: 18.00 Uhr
URL:https://treibhaus-doebeln.de/event/vortrag-die-familien-brock-und-kosterlitz-juden-und-juedinnen-in-waldheim-und-mittweida/
LOCATION:Stadt- und Museumshaus Waldheim\, Niedermarkt 8\, Waldheim\, Sachsen\, 04736
CATEGORIES:Vortrag
ATTACH;FMTTYPE=image/jpeg:https://treibhaus-doebeln.de/wp-content/uploads/2022/08/20221013-Vortrag-Die-Familien-Brock-und-Kosterlitz_Header.jpg
ORGANIZER;CN="Treibhaus e.V. D%C3%B6beln":MAILTO:info@treibhaus-doebeln.de
END:VEVENT
BEGIN:VEVENT
DTSTART;TZID=Europe/Berlin:20221013T190000
DTEND;TZID=Europe/Berlin:20221013T210000
DTSTAMP:20260424T113532
CREATED:20221006T125001Z
LAST-MODIFIED:20221006T125105Z
UID:12712-1665687600-1665694800@treibhaus-doebeln.de
SUMMARY:WerkStadt Stammtisch
DESCRIPTION:Ab sofort findet immer am zweiten Donnerstag im Monat unser WerkStadt-Stammtisch im Café Courage statt. Bei einem Bier oder gekühlter Limonade oder vielleicht doch einem warmen Tee können wir über aktuelle Themen ins Gespräch kommen. Wir freuen uns auf Freund*innen und Interessierte\, die mehr über unsere Arbeit wissen möchten und spinnen gerne gemeinsam an neuen Ideen! \nWir freuen uns über euer Kommen.  \nEuer Team der WerkStadt  \nLeon\, Isabell & Kim
URL:https://treibhaus-doebeln.de/event/werkstadt-stammtisch/
LOCATION:Café Courage\, Bahnhofstraße 56\, Döbeln\, Sachsen\, 04720\, Deutschland
ATTACH;FMTTYPE=image/jpeg:https://treibhaus-doebeln.de/wp-content/uploads/2022/10/WerkStadtStammtisch-Veranstaltung-scaled.jpg
END:VEVENT
END:VCALENDAR