BEGIN:VCALENDAR
VERSION:2.0
PRODID:-//Treibhaus Döbeln - ECPv6.15.13//NONSGML v1.0//EN
CALSCALE:GREGORIAN
METHOD:PUBLISH
X-WR-CALNAME:Treibhaus Döbeln
X-ORIGINAL-URL:https://treibhaus-doebeln.de
X-WR-CALDESC:Veranstaltungen für Treibhaus Döbeln
REFRESH-INTERVAL;VALUE=DURATION:PT1H
X-Robots-Tag:noindex
X-PUBLISHED-TTL:PT1H
BEGIN:VTIMEZONE
TZID:Europe/Berlin
BEGIN:DAYLIGHT
TZOFFSETFROM:+0100
TZOFFSETTO:+0200
TZNAME:CEST
DTSTART:20210328T010000
END:DAYLIGHT
BEGIN:STANDARD
TZOFFSETFROM:+0200
TZOFFSETTO:+0100
TZNAME:CET
DTSTART:20211031T010000
END:STANDARD
BEGIN:DAYLIGHT
TZOFFSETFROM:+0100
TZOFFSETTO:+0200
TZNAME:CEST
DTSTART:20220327T010000
END:DAYLIGHT
BEGIN:STANDARD
TZOFFSETFROM:+0200
TZOFFSETTO:+0100
TZNAME:CET
DTSTART:20221030T010000
END:STANDARD
BEGIN:DAYLIGHT
TZOFFSETFROM:+0100
TZOFFSETTO:+0200
TZNAME:CEST
DTSTART:20230326T010000
END:DAYLIGHT
BEGIN:STANDARD
TZOFFSETFROM:+0200
TZOFFSETTO:+0100
TZNAME:CET
DTSTART:20231029T010000
END:STANDARD
END:VTIMEZONE
BEGIN:VEVENT
DTSTART;TZID=Europe/Berlin:20221007T190000
DTEND;TZID=Europe/Berlin:20221007T210000
DTSTAMP:20260424T125841
CREATED:20220831T114528Z
LAST-MODIFIED:20220831T120518Z
UID:12448-1665169200-1665176400@treibhaus-doebeln.de
SUMMARY:PRISMA: Theater: Radicality TV
DESCRIPTION:Radicality TV\nEin Theaterabend mit »Die Anderen – das Eingewandertentheater«\nIm Rahmen der interkulturellen Wochen PRISMA\n„Wir schreiben das Jahr 2022. Künstliche Intelligenz ist seit einigen Jahren kein Traum mehr\, sondern Realität. Vom Menschen geschaffene Technologien erwachen und erlangen ein eigenes Bewusstsein: so auch das weltweite Netz\, das Internet. Doch was tun mit einem Bewusstsein? Das Internet ist nationslos. Es ist überall zugleich – es besitzt alle Identitäten und gleichzeitig keine. So stellt es eine der alles entscheidenden Fragen: wer bin ich?“ \nIn der einstündigen Szenencollage begleiten die Schauspielenden das Internet als Influencer*innen durch kurze\, szenische „Videosequenzen“\, für die eigene Geschichten und Gedanken zu den Themen Radikalität\, Freiheit und innere Stimmen erforscht wurden. Radicality TV ist eine Reise zwischen Fiktion\, Reflexionen und der Erzählung eigener Erfahrungen. Deshalb ist es auch kein klassisches Theaterstück. Radicality TV ist eine Einladung zum Dialog. Die Zuschauenden werden im Anschluss an die Aufführung von den Schauspielenden zu einem interaktiven Gespräch über die im Stück enthaltenen Themen eingeladen. \nDas Stück wurde von der 2020 gegründeten Theatergruppe »Die Anderen – das Eingewandertentheater« mit Schauspielenden und Theatermachenden aus Syrien\, Venezuela\, Saudi-Arabien\, Südafrika\, Luxemburg und Deutschland selbst entworfen\, erzählt und inszeniert. Auf der Bühne werden Baraa Alkurdi\, Amar Alhareeri\, Eleonore Slabbert\, Pablo Figueroa und Reem van Buuren zu sehen sein. Robert Klement\, Rebecca Richter und Corinne Besenius sind für den inhaltlichen und begleitenden Prozess zuständig. Das Leipziger Projekt erforscht und erzählt persönliche und politische Geschichten\, die uns in unseren unterschiedlichen Biographien verbinden und scheinbar trennen. Dabei integrieren sich persönliche Erzählungen in fiktionale Darstellungen. \nEinlass: 18.30 Uhr\nBeginn: 19.00 Uhr\nDer Eintritt ist frei. Spenden sind herzlich willkommen. \nDiese Veranstaltung wird gefördert von Land in Sicht e.V.
URL:https://treibhaus-doebeln.de/event/prisma-theater-radicality-tv/
LOCATION:Café Courage\, Bahnhofstraße 56\, Döbeln\, Sachsen\, 04720\, Deutschland
CATEGORIES:Theater
ATTACH;FMTTYPE=image/jpeg:https://treibhaus-doebeln.de/wp-content/uploads/2022/08/20221007-Theater-Radicality-TV_Header.jpg
ORGANIZER;CN="Treibhaus e.V. D%C3%B6beln":MAILTO:info@treibhaus-doebeln.de
END:VEVENT
END:VCALENDAR