BEGIN:VCALENDAR
VERSION:2.0
PRODID:-//Treibhaus Döbeln - ECPv6.15.13//NONSGML v1.0//EN
CALSCALE:GREGORIAN
METHOD:PUBLISH
X-ORIGINAL-URL:https://treibhaus-doebeln.de
X-WR-CALDESC:Veranstaltungen für Treibhaus Döbeln
REFRESH-INTERVAL;VALUE=DURATION:PT1H
X-Robots-Tag:noindex
X-PUBLISHED-TTL:PT1H
BEGIN:VTIMEZONE
TZID:Europe/Berlin
BEGIN:DAYLIGHT
TZOFFSETFROM:+0100
TZOFFSETTO:+0200
TZNAME:CEST
DTSTART:20210328T010000
END:DAYLIGHT
BEGIN:STANDARD
TZOFFSETFROM:+0200
TZOFFSETTO:+0100
TZNAME:CET
DTSTART:20211031T010000
END:STANDARD
BEGIN:DAYLIGHT
TZOFFSETFROM:+0100
TZOFFSETTO:+0200
TZNAME:CEST
DTSTART:20220327T010000
END:DAYLIGHT
BEGIN:STANDARD
TZOFFSETFROM:+0200
TZOFFSETTO:+0100
TZNAME:CET
DTSTART:20221030T010000
END:STANDARD
BEGIN:DAYLIGHT
TZOFFSETFROM:+0100
TZOFFSETTO:+0200
TZNAME:CEST
DTSTART:20230326T010000
END:DAYLIGHT
BEGIN:STANDARD
TZOFFSETFROM:+0200
TZOFFSETTO:+0100
TZNAME:CET
DTSTART:20231029T010000
END:STANDARD
END:VTIMEZONE
BEGIN:VEVENT
DTSTART;TZID=Europe/Berlin:20221006T190000
DTEND;TZID=Europe/Berlin:20221006T203000
DTSTAMP:20260424T075125
CREATED:20220830T093648Z
LAST-MODIFIED:20220920T074758Z
UID:12396-1665082800-1665088200@treibhaus-doebeln.de
SUMMARY:Vortrag: Demokratie und Krise – Krise der Demokratie?
DESCRIPTION:Vortrag: Demokratie und Krise – Krise der Demokratie?\nFinanzen\, Klima\, Pandemie — die Debatten in den vergangenen Jahren waren häufig von Krisen bestimmt. Aber wie stabil ist die Demokratie selbst? Sind vermehrt auftretende “Reichsbürger”\, auffallender Lobbyismus und anhaltende Proteste ein Zeichen ihrer Stärke oder ihrer Schwäche? Wie steht es um Gewaltenteilung\, Parlamentarismus und Volks-Herrschaft? \nDr. Maik Herold von der TU Dresden geht diesen Fragen nach. \nDer Eintritt ist frei. \n⏰ Zeit\n06. Oktober\n19.00 bis 20.30 Uhr \n🏡 Ort\nCafé Courage\nBahnhofstraße 56\n04720 Döbeln \n📝Anmeldung\nDies ist eine Veranstaltung der Volkshochschule. Bei Interesse bitten wir um Anmeldung direkt bei der VHS Mittelsachsen. \n \nDiese Maßnahme wird mitfinanziert durch Steuermittel auf der Grundlage des vom Sächsischen Landtag beschlossenen Haushaltes.
URL:https://treibhaus-doebeln.de/event/vortrag-demokratie-und-krise-krise-der-demokratie/
LOCATION:Café Courage\, Bahnhofstraße 56\, Döbeln\, Sachsen\, 04720\, Deutschland
CATEGORIES:Vortrag
ATTACH;FMTTYPE=image/jpeg:https://treibhaus-doebeln.de/wp-content/uploads/2022/08/20221006-VHS-Demokratie-Veranstaltung-scaled.jpg
ORGANIZER;CN="VHS Mittelsachsen":MAILTO:vhs@vhs-mittelsachsen.de
END:VEVENT
END:VCALENDAR