BEGIN:VCALENDAR
VERSION:2.0
PRODID:-//Treibhaus Döbeln - ECPv6.15.13//NONSGML v1.0//EN
CALSCALE:GREGORIAN
METHOD:PUBLISH
X-WR-CALNAME:Treibhaus Döbeln
X-ORIGINAL-URL:https://treibhaus-doebeln.de
X-WR-CALDESC:Veranstaltungen für Treibhaus Döbeln
REFRESH-INTERVAL;VALUE=DURATION:PT1H
X-Robots-Tag:noindex
X-PUBLISHED-TTL:PT1H
BEGIN:VTIMEZONE
TZID:Europe/Berlin
BEGIN:DAYLIGHT
TZOFFSETFROM:+0100
TZOFFSETTO:+0200
TZNAME:CEST
DTSTART:20210328T010000
END:DAYLIGHT
BEGIN:STANDARD
TZOFFSETFROM:+0200
TZOFFSETTO:+0100
TZNAME:CET
DTSTART:20211031T010000
END:STANDARD
BEGIN:DAYLIGHT
TZOFFSETFROM:+0100
TZOFFSETTO:+0200
TZNAME:CEST
DTSTART:20220327T010000
END:DAYLIGHT
BEGIN:STANDARD
TZOFFSETFROM:+0200
TZOFFSETTO:+0100
TZNAME:CET
DTSTART:20221030T010000
END:STANDARD
BEGIN:DAYLIGHT
TZOFFSETFROM:+0100
TZOFFSETTO:+0200
TZNAME:CEST
DTSTART:20230326T010000
END:DAYLIGHT
BEGIN:STANDARD
TZOFFSETFROM:+0200
TZOFFSETTO:+0100
TZNAME:CET
DTSTART:20231029T010000
END:STANDARD
END:VTIMEZONE
BEGIN:VEVENT
DTSTART;TZID=Europe/Berlin:20220921T090000
DTEND;TZID=Europe/Berlin:20220921T120000
DTSTAMP:20260424T081837
CREATED:20220818T114424Z
LAST-MODIFIED:20220830T132157Z
UID:12325-1663750800-1663761600@treibhaus-doebeln.de
SUMMARY:Unterwegs: Neue Medien und ihre Risiken
DESCRIPTION:Unterwegs: Neue Medien und ihre Risiken\nAm 21. August sind wir wieder in Riesa beim Psychosozialen Trägerverein Sachsen e.V. Im Rahmen unseres gemeinsamen Angebots schauen wir uns Tücken und Chancen neuer digitaler Medien an. Dabei geht es auch darum\, den alltäglichen Workflow und weitere Hintergründe kennenzulernen. Von A wie App bis Z wie Zentrale Passwortspeicher dreht sich unser Projekt um Alltagsfragen. Was sind Cloud-Speicher\, was ist ein Impressum und vielen weiteren Fragen gehen wir nach und erproben ebenso Praxisanwendungen. \nDie Teilnahme erfolgt über unseren Kooperationspartner. Zur Zeit sind alle Plätze belegt. \nBei Interesse ähnliche Projekttage oder ganz andere Ideen umzusetzen\, melden Sie sich bitte bei uns: spektrum3000@treibhaus-doebeln.de \n📯 Ansprechpersonen\nSpektrum3000\nJohannes Fischer & Johannes Gersten\nMail: spektrum3000@treibhaus-doebeln.de\nWhatsApp & Telegram: +49 (0) 1575 / 0888 948\nFon: +49 (0) 3431 / 67 87 403 \nWir sind im Raum Döbeln\, Riesa und Oschatz für Sie unterwegs und wollen vor Ort mit unseren Angeboten die Medienkompetenz in Mittelsachsen stärken. Zu diesem Zweck bieten wir eine breite Auswahl an Veranstaltungen\, aus der Sie sich\, die für Sie passende\, auswählen können. Von Workshops & Kursen\, über Beratungsangebote\, bis hin zu Vorträgen können wir alles realisieren\, was Sie sich wünschen. Schauen Sie gern auf unsere Projektseite\, auch neue und individuelle Ideen können wir mit Ihnen angehen. \nDas Projekt Spektrum3000 wird von der Sächsischen Landesanstalt für privaten Rundfunk und neue Medien gefördert. \n📅 Weitere Medienbildungsangebote finden Sie hier 📅 \n 
URL:https://treibhaus-doebeln.de/event/unterwegs-neue-medien-und-ihre-risiken/
LOCATION:Sachsen
CATEGORIES:Projekt,Workshop
ATTACH;FMTTYPE=image/png:https://treibhaus-doebeln.de/wp-content/uploads/2022/01/Vorschau-Website-Event.png
END:VEVENT
END:VCALENDAR