BEGIN:VCALENDAR
VERSION:2.0
PRODID:-//Treibhaus Döbeln - ECPv6.15.13//NONSGML v1.0//EN
CALSCALE:GREGORIAN
METHOD:PUBLISH
X-WR-CALNAME:Treibhaus Döbeln
X-ORIGINAL-URL:https://treibhaus-doebeln.de
X-WR-CALDESC:Veranstaltungen für Treibhaus Döbeln
REFRESH-INTERVAL;VALUE=DURATION:PT1H
X-Robots-Tag:noindex
X-PUBLISHED-TTL:PT1H
BEGIN:VTIMEZONE
TZID:Europe/Berlin
BEGIN:DAYLIGHT
TZOFFSETFROM:+0100
TZOFFSETTO:+0200
TZNAME:CEST
DTSTART:20210328T010000
END:DAYLIGHT
BEGIN:STANDARD
TZOFFSETFROM:+0200
TZOFFSETTO:+0100
TZNAME:CET
DTSTART:20211031T010000
END:STANDARD
BEGIN:DAYLIGHT
TZOFFSETFROM:+0100
TZOFFSETTO:+0200
TZNAME:CEST
DTSTART:20220327T010000
END:DAYLIGHT
BEGIN:STANDARD
TZOFFSETFROM:+0200
TZOFFSETTO:+0100
TZNAME:CET
DTSTART:20221030T010000
END:STANDARD
BEGIN:DAYLIGHT
TZOFFSETFROM:+0100
TZOFFSETTO:+0200
TZNAME:CEST
DTSTART:20230326T010000
END:DAYLIGHT
BEGIN:STANDARD
TZOFFSETFROM:+0200
TZOFFSETTO:+0100
TZNAME:CET
DTSTART:20231029T010000
END:STANDARD
END:VTIMEZONE
BEGIN:VEVENT
DTSTART;TZID=Europe/Berlin:20220920T173000
DTEND;TZID=Europe/Berlin:20220920T193000
DTSTAMP:20260424T114939
CREATED:20220823T113104Z
LAST-MODIFIED:20220830T132120Z
UID:12353-1663695000-1663702200@treibhaus-doebeln.de
SUMMARY:Siebdruckworkshop: NAUTICAL PRINTING
DESCRIPTION:Siebdruckworkshop: NAUTICAL PRINTING\nDu hast Lust\, Siebdruck auszuprobieren und dabei noch schöne Prints auf Stoff und Papier herzustellen? Wir haben verschiedene maritime Motive zusammengestellt\, aus denen du auswählen kannst. Außerdem bieten wir unterschiedliche Druckträger an\, die du vor Ort erwerben kannst\, z.B. Postkarten\, Beutel\, Socken\, Notizhefte\, Kissenhüllen u.v.m. Du zahlst nur\, was du wirklich druckst und kannst über deinen Teilnahmebeitrag selbst entscheiden. Du musst also nichts vorbereiten und brauchst auch keine Vorkenntnisse\, nur etwas Zeit und Lust zum Experimentieren! \nAnmeldung\nJulia Kaltofen\nMail: siebdruck@treibhaus-doebeln.de\nFon: +49 (0) 3431 / 60 52 978
URL:https://treibhaus-doebeln.de/event/siebdruckworkshop-nautical-printing-2/
LOCATION:Café Courage\, Bahnhofstraße 56\, Döbeln\, Sachsen\, 04720\, Deutschland
CATEGORIES:Kunst,Workshop
ATTACH;FMTTYPE=image/jpeg:https://treibhaus-doebeln.de/wp-content/uploads/2022/08/NAUTICAL-PRINTING.jpg
ORGANIZER;CN="Treibhaus e.V. D%C3%B6beln":MAILTO:info@treibhaus-doebeln.de
END:VEVENT
END:VCALENDAR