BEGIN:VCALENDAR
VERSION:2.0
PRODID:-//Treibhaus Döbeln - ECPv6.15.13//NONSGML v1.0//EN
CALSCALE:GREGORIAN
METHOD:PUBLISH
X-WR-CALNAME:Treibhaus Döbeln
X-ORIGINAL-URL:https://treibhaus-doebeln.de
X-WR-CALDESC:Veranstaltungen für Treibhaus Döbeln
REFRESH-INTERVAL;VALUE=DURATION:PT1H
X-Robots-Tag:noindex
X-PUBLISHED-TTL:PT1H
BEGIN:VTIMEZONE
TZID:Europe/Berlin
BEGIN:DAYLIGHT
TZOFFSETFROM:+0100
TZOFFSETTO:+0200
TZNAME:CEST
DTSTART:20210328T010000
END:DAYLIGHT
BEGIN:STANDARD
TZOFFSETFROM:+0200
TZOFFSETTO:+0100
TZNAME:CET
DTSTART:20211031T010000
END:STANDARD
BEGIN:DAYLIGHT
TZOFFSETFROM:+0100
TZOFFSETTO:+0200
TZNAME:CEST
DTSTART:20220327T010000
END:DAYLIGHT
BEGIN:STANDARD
TZOFFSETFROM:+0200
TZOFFSETTO:+0100
TZNAME:CET
DTSTART:20221030T010000
END:STANDARD
BEGIN:DAYLIGHT
TZOFFSETFROM:+0100
TZOFFSETTO:+0200
TZNAME:CEST
DTSTART:20230326T010000
END:DAYLIGHT
BEGIN:STANDARD
TZOFFSETFROM:+0200
TZOFFSETTO:+0100
TZNAME:CET
DTSTART:20231029T010000
END:STANDARD
END:VTIMEZONE
BEGIN:VEVENT
DTSTART;TZID=Europe/Berlin:20220829T173000
DTEND;TZID=Europe/Berlin:20220829T193000
DTSTAMP:20260424T094956
CREATED:20220901T084533Z
LAST-MODIFIED:20220901T084533Z
UID:12476-1661794200-1661801400@treibhaus-doebeln.de
SUMMARY:creativ.café
DESCRIPTION:creativ.café\nDas creativ.café ist ein Kunsttreff für Frauen (FLINTA- Personen)\, der sich seit 2017 im Treibhaus e.V. aller zwei Wochen trifft. Gemeinsam beschäftigen wir uns unter professioneller Anleitung\, mit verschiedenen Kunsttechniken – von Linoldruck\, Siebdruck\, Lithografie\, Radierung\, Collage bis hin zu Buchkunst\, Fotografie oder Kalligrafie.\nIm creativ.café kannst du alles ausprobieren oder an deinen eigenen Projekten arbeiten. Auch fortgeschrittene oder professionelle Künstlerinnen sind bei uns herzlich willkommen.\nAllerdings musst du keine Ahnung von Kunst haben oder Vorerfahrungen mitbringen\, lediglich Freude und Interesse an kreativer Betätigung.\nWir freuen uns auf Dich. \nBeginn: 17.30 Uhr\nEnde: 19.30 Uhr \nDie Teilnahme ist kostenfrei.\nDas Material wird gestellt.
URL:https://treibhaus-doebeln.de/event/creativ-cafe-42/
LOCATION:Café Courage\, Bahnhofstraße 56\, Döbeln\, Sachsen\, 04720\, Deutschland
CATEGORIES:Kunst
ATTACH;FMTTYPE=image/jpeg:https://treibhaus-doebeln.de/wp-content/uploads/2021/09/Facebook_Header_creativcafe21-scaled.jpg
ORGANIZER;CN="Treibhaus e.V. D%C3%B6beln":MAILTO:info@treibhaus-doebeln.de
END:VEVENT
END:VCALENDAR