BEGIN:VCALENDAR
VERSION:2.0
PRODID:-//Treibhaus Döbeln - ECPv6.15.13//NONSGML v1.0//EN
CALSCALE:GREGORIAN
METHOD:PUBLISH
X-WR-CALNAME:Treibhaus Döbeln
X-ORIGINAL-URL:https://treibhaus-doebeln.de
X-WR-CALDESC:Veranstaltungen für Treibhaus Döbeln
REFRESH-INTERVAL;VALUE=DURATION:PT1H
X-Robots-Tag:noindex
X-PUBLISHED-TTL:PT1H
BEGIN:VTIMEZONE
TZID:Europe/Berlin
BEGIN:DAYLIGHT
TZOFFSETFROM:+0100
TZOFFSETTO:+0200
TZNAME:CEST
DTSTART:20210328T010000
END:DAYLIGHT
BEGIN:STANDARD
TZOFFSETFROM:+0200
TZOFFSETTO:+0100
TZNAME:CET
DTSTART:20211031T010000
END:STANDARD
BEGIN:DAYLIGHT
TZOFFSETFROM:+0100
TZOFFSETTO:+0200
TZNAME:CEST
DTSTART:20220327T010000
END:DAYLIGHT
BEGIN:STANDARD
TZOFFSETFROM:+0200
TZOFFSETTO:+0100
TZNAME:CET
DTSTART:20221030T010000
END:STANDARD
BEGIN:DAYLIGHT
TZOFFSETFROM:+0100
TZOFFSETTO:+0200
TZNAME:CEST
DTSTART:20230326T010000
END:DAYLIGHT
BEGIN:STANDARD
TZOFFSETFROM:+0200
TZOFFSETTO:+0100
TZNAME:CET
DTSTART:20231029T010000
END:STANDARD
END:VTIMEZONE
BEGIN:VEVENT
DTSTART;TZID=Europe/Berlin:20220825T150000
DTEND;TZID=Europe/Berlin:20220825T210000
DTSTAMP:20260423T153336
CREATED:20220713T121149Z
LAST-MODIFIED:20220722T092901Z
UID:12194-1661439600-1661461200@treibhaus-doebeln.de
SUMMARY:Eröffnung des WerkStadt-Büros
DESCRIPTION:Eröffnung des WerkStadt-Büros\nWir laden Sie herzlich zur Eröffnungsfeier des neuen Büros des Projekts WerkStadt in der Kreuzstraße 2 am Donnerstag\, den 25. August ein. Ab 15 Uhr ist das Büro bei Kaffee und Kuchen für gute Gespräche geöffnet\, um 17 Uhr folgt die offizielle Eröffnung\, unter anderem mit Grußworten von Herrn Oberbürgermeister Sven Liebhauser und Frau Katja Meier\, Staatsministerin der Justiz und für Demokratie\, Europa und Gleichstellung\, als Fördermittelgeberin für das Projekt WerkStadt. \nDie WerkStadt ist Teil des Förderprogramms “Orte der Demokratie” und schafft einen von insgesamt 13 dieser über ganz Sachsen verteilten Orte unter dem Dach des Treibhaus e.V. in Döbeln. Dabei liegt der Fokus insbesondere darauf\, Orte zu schaffen\, in denen neue demokratische Formate abseits der großen urbanen Zentren erprobt werden können\, aber auch Orte des Gemeinwesens\, Orte des ehrenamtlichen Engagements und Orte der Zivilgesellschaft. Die Förderung läuft zunächst für drei Jahre bis Ende des Jahres 2024. \nDas Projektbüro in der Kreuzstraße 2\, unweit des Obermarkts gelegen\, soll für die WerkStadt einen zentrale Anlaufpunkt für interessierte Bürger*innen bieten und gleichzeitig ein Ort sein\, welcher dafür sorgen soll\, die vielfältigen Angebote des Treibhaus e.V. noch besser mit der Stadtgesellschaft zu verbinden. Durch die Lage mitten in der Innenstadt ist das Büro niedrigschwellig erreichbar und bietet einen Ort\, um mit den Projektmitarbeiter*innen zum Beispiel bei einem Kaffee ins Gespräch zu kommen. Das Büro ist von Dienstag bis Donnerstag jeweils zwischen 9:30 und 15 Uhr geöffnet\, nach Vereinbarung aber auch außerhalb dieser Zeiten. \nZeitlicher Ablauf\nBeginn: 15.00 Uhr mit Kaffee\, Kuchen & guten Gesprächen \nGrußworte und Eröffnung: 17.00 Uhr \nOpen Café @Café Courage: ab 19.00 Uhr \nKontakt für Rückfragen\nLeon Grünig \nTelefon: 0176 / 87099237\nMail: werkstadt@treibhaus-doebeln.de
URL:https://treibhaus-doebeln.de/event/eroeffnung-des-werkstadt-bueros/
LOCATION:WerkStadt-Büro\, Kreuzstraße 2\, Döbeln\, Sachsen\, 04720\, Deutschland
CATEGORIES:Eröffnung,Information,Open Café
ATTACH;FMTTYPE=image/jpeg:https://treibhaus-doebeln.de/wp-content/uploads/2022/07/Veranstaltung-Eroeffnungsfeier-scaled.jpg
ORGANIZER;CN="Treibhaus e.V. D%C3%B6beln":MAILTO:info@treibhaus-doebeln.de
END:VEVENT
END:VCALENDAR