BEGIN:VCALENDAR
VERSION:2.0
PRODID:-//Treibhaus Döbeln - ECPv6.15.13//NONSGML v1.0//EN
CALSCALE:GREGORIAN
METHOD:PUBLISH
X-WR-CALNAME:Treibhaus Döbeln
X-ORIGINAL-URL:https://treibhaus-doebeln.de
X-WR-CALDESC:Veranstaltungen für Treibhaus Döbeln
REFRESH-INTERVAL;VALUE=DURATION:PT1H
X-Robots-Tag:noindex
X-PUBLISHED-TTL:PT1H
BEGIN:VTIMEZONE
TZID:Europe/Berlin
BEGIN:DAYLIGHT
TZOFFSETFROM:+0100
TZOFFSETTO:+0200
TZNAME:CEST
DTSTART:20210328T010000
END:DAYLIGHT
BEGIN:STANDARD
TZOFFSETFROM:+0200
TZOFFSETTO:+0100
TZNAME:CET
DTSTART:20211031T010000
END:STANDARD
BEGIN:DAYLIGHT
TZOFFSETFROM:+0100
TZOFFSETTO:+0200
TZNAME:CEST
DTSTART:20220327T010000
END:DAYLIGHT
BEGIN:STANDARD
TZOFFSETFROM:+0200
TZOFFSETTO:+0100
TZNAME:CET
DTSTART:20221030T010000
END:STANDARD
BEGIN:DAYLIGHT
TZOFFSETFROM:+0100
TZOFFSETTO:+0200
TZNAME:CEST
DTSTART:20230326T010000
END:DAYLIGHT
BEGIN:STANDARD
TZOFFSETFROM:+0200
TZOFFSETTO:+0100
TZNAME:CET
DTSTART:20231029T010000
END:STANDARD
END:VTIMEZONE
BEGIN:VEVENT
DTSTART;TZID=Europe/Berlin:20220821T000000
DTEND;TZID=Europe/Berlin:20220825T000000
DTSTAMP:20260424T115031
CREATED:20220510T094234Z
LAST-MODIFIED:20220510T100802Z
UID:11895-1661040000-1661385600@treibhaus-doebeln.de
SUMMARY:Jugendbegegnung: „Wer bist Du? Wer bin Ich?“
DESCRIPTION:Jugendbegegnung: „Wer bist Du? Wer bin Ich?“\nAn einem unbekannten Ort ankommen und fremden Gesichtern begegnen ist eine Herausforderung die wir uns im gesamten Leben immer wieder zu stellen haben. Wenn dann noch eine andere Sprache gesprochen wird heißt es allen Mut zusammennehmen und hinein ins Abenteuer. Dem wollen wir mit allen Sinnen bei Bewegung\, Spiel und Spaß begegnen. Geplant sind Tageswanderung mit Picknick\, Nachtwanderung\, so wie unter anderem eine Schlauchbootfahrt. Neben naturnahen Aktivitäten wird es auch Raum für Kreativität und besinnliche Ruhe geben. Dabei werden Übungen aus der Erlebnispädagogik integriert um die Kinder und Jugendliche spielerisch einander nahezubringen\, Vertrauen aufzubauen und Freundschaften zu schließen. Für eine reibungslose Verständigung und Übersetzung wird gesorgt sein. \n\nTitel: „Wer bist Du? Wer bin Ich?“\nOrt: Klosterbuch\, Deutschland\nZeitraum: 21.08. – 25.08. 2022\nAlter: 8 – 14 Jahre\nBeteiligte Länder: Deutschland\, Ukraine\nKosten: keine\nAnmeldeschluss: 01.07.2022\nKontakt\nVicky Behnisch\nFon: +49 (0) 3431 / 67 86 397\nMail: ija@treibhaus-doebeln.de
URL:https://treibhaus-doebeln.de/event/jugendbegegnung-wer-bist-du-wer-bin-ich/
LOCATION:Klosterbuch\, Klosterbuch 1\, Leisnig\, Sachsen\, 04703
ATTACH;FMTTYPE=image/jpeg:https://treibhaus-doebeln.de/wp-content/uploads/2022/05/IJB-Klosterbuch-2022Jul_Fb_220508.jpg
ORGANIZER;CN="Treibhaus e.V. D%C3%B6beln":MAILTO:info@treibhaus-doebeln.de
END:VEVENT
BEGIN:VEVENT
DTSTART;TZID=Europe/Berlin:20220823T100000
DTEND;TZID=Europe/Berlin:20220824T140000
DTSTAMP:20260424T115031
CREATED:20220728T121143Z
LAST-MODIFIED:20220808T121209Z
UID:12263-1661248800-1661349600@treibhaus-doebeln.de
SUMMARY:Workshop: Hörspiel für Groß und Klein
DESCRIPTION:Workshop: Hörspiel für Groß und Klein\nHörspiele faszinieren uns seid unserer Kindheit und jede Generation lernt dieses Medien aufs neue kennen. Wir wollen mit diesem intergenerationellen Workshop Kinder mit ihren Eltern und Großeltern zusammenbringen und ermutigen\, diesen Teil der Medienwelt gemeinsam zu erkunden. \nIn der letzten Ferienwoche könnt ihr kleine Hörspiele aufnehmen und anschließend mit nach Hause nehmen. Dabei unterstützen wir euch gerne. Ihr könnt als Familie ein Geschichte aufnehmen\, oder zusammen mit anderen arbeiten\, wenn ihr das möchtet. \nWir bitten euch\, eure Geschichten selbst mitzubringen. Diese sollten dabei nicht länger als ein herkömmliches Märchen sein. \nDer Workshop geht zwei Tage lang. Am ersten Tag erklären wir euch worauf es bei einem Hörspiel ankommt und wir beginnen mit den Aufnahmen. Diese werden spätestens am zweiten Tag beendet und Toneffekten und Musik unterlegt. \n⏰ Zeit\n23. bis 24. August 2022 \njeweils 10:00 – 14:00 Uhr \n🏡 Ort\nBürgerhaus Roßwein \nAm Markt 8 \nin \n04741 Roßwein \n📝 Anmeldung\nBitte melden Sie sich bitte direkt beim Bürgerhaus Roßwein\, Am Markt 8 an:\nTelefon +49 (0) 34322 / 581 431\nMail buergerhaus-rosswein@gmx.de \n📯 Ansprechpersonen Spektrum3000\nJohannes Fischer & Johannes Gersten\nMail: spektrum3000@treibhaus-doebeln.de\nWhatsApp & Telegram: +49 (0) 1575 / 0888 948\nFon: +49 (0) 3431 / 67 87 403 \nWir sind im Raum Döbeln\, Riesa und Oschatz für Sie unterwegs und wollen vor Ort mit unseren Angeboten die Medienkompetenz in Mittelsachsen stärken. Zu diesem Zweck bieten wir eine breite Auswahl an Veranstaltungen\, aus der Sie sich\, die für Sie passende\, auswählen können. Von Workshops & Kursen\, über Beratungsangebote\, bis hin zu Vorträgen können wir alles realisieren\, was Sie sich wünschen. Schauen Sie gern auf unsere Projektseite\, auch neue und individuelle Ideen können wir mit Ihnen angehen. \nDas Projekt Spektrum3000 wird von der Sächsischen Landesanstalt für privaten Rundfunk und neue Medien gefördert. \n📅 Weitere Medienbildungsangebote finden Sie hier 📅
URL:https://treibhaus-doebeln.de/event/workshop-hoerspiel-fuer-gross-und-klein/
LOCATION:Bürgerhaus Roßwein\, Markt 08\, Roßwein\, Sachsen\, 04741\, Deutschland
CATEGORIES:Hörspiel,Workshop
ATTACH;FMTTYPE=image/png:https://treibhaus-doebeln.de/wp-content/uploads/2022/07/Hoerspiel.png
ORGANIZER;CN="B%C3%BCrgerhaus Ro%C3%9Fwein":MAILTO:buergerhaus-rosswein@gmx.de
END:VEVENT
BEGIN:VEVENT
DTSTART;TZID=Europe/Berlin:20220823T173000
DTEND;TZID=Europe/Berlin:20220823T193000
DTSTAMP:20260424T115031
CREATED:20220622T095350Z
LAST-MODIFIED:20220720T095500Z
UID:12109-1661275800-1661283000@treibhaus-doebeln.de
SUMMARY:Siebdruckworkshop: WITH KIDS PRINTING
DESCRIPTION:Siebdruckworkshop: WITH KIDS PRINTING\nHabt ihr Lust\, in den Sommerferien gemeinsam kreativ zu werden und Siebdruck auszuprobieren? Dann ist unser Workshop genau das Richtige für euch!\nWir haben verschiedene\, coole Motive für Groß und Klein zusammengestellt\, aus denen ihr auswählen könnt. Außerdem bieten wir unterschiedliche Druckträger an\, die ihr vor Ort erwerben könnt. Ihr zahlt nur\, was ihr wirklich druckt und könnt über euren Teilnahmebeitrag selbst entscheiden.\nIhr müsst also nichts vorbereiten und braucht auch keine Vorkenntnisse\, nur etwas Zeit und Lust zum Experimentieren!\nIhr wollt dabei sein? Dann meldet euch gerne als Team (Erwachsener/Kind 6-12 Jahre) an\, die Teilnehmer*innenanzahl ist begrenzt!\nBeginn: 17.30 Uhr\nEnde: ca. 19.30 Uhr\nAnmeldung\nMail: siebdruck@treibhaus-doebeln.de\nFon: +49 (0) 3431 / 60 52 978\nHinweise\nBitte beachtet unsere aktuellen Hinweise zu den Corona-Schutzmaßnahmen: treibhaus-doebeln.de/corona-hinweise
URL:https://treibhaus-doebeln.de/event/siebdruckworkshop-with-kids-printing-3/
LOCATION:Café Courage\, Bahnhofstraße 56\, Döbeln\, Sachsen\, 04720\, Deutschland
CATEGORIES:Kunst,Workshop
ATTACH;FMTTYPE=image/jpeg:https://treibhaus-doebeln.de/wp-content/uploads/2022/06/289061920_2151979104983519_874185944208506582_n.jpg
ORGANIZER;CN="Treibhaus e.V. D%C3%B6beln":MAILTO:info@treibhaus-doebeln.de
END:VEVENT
END:VCALENDAR