BEGIN:VCALENDAR
VERSION:2.0
PRODID:-//Treibhaus Döbeln - ECPv6.15.13//NONSGML v1.0//EN
CALSCALE:GREGORIAN
METHOD:PUBLISH
X-ORIGINAL-URL:https://treibhaus-doebeln.de
X-WR-CALDESC:Veranstaltungen für Treibhaus Döbeln
REFRESH-INTERVAL;VALUE=DURATION:PT1H
X-Robots-Tag:noindex
X-PUBLISHED-TTL:PT1H
BEGIN:VTIMEZONE
TZID:Europe/Berlin
BEGIN:DAYLIGHT
TZOFFSETFROM:+0100
TZOFFSETTO:+0200
TZNAME:CEST
DTSTART:20210328T010000
END:DAYLIGHT
BEGIN:STANDARD
TZOFFSETFROM:+0200
TZOFFSETTO:+0100
TZNAME:CET
DTSTART:20211031T010000
END:STANDARD
BEGIN:DAYLIGHT
TZOFFSETFROM:+0100
TZOFFSETTO:+0200
TZNAME:CEST
DTSTART:20220327T010000
END:DAYLIGHT
BEGIN:STANDARD
TZOFFSETFROM:+0200
TZOFFSETTO:+0100
TZNAME:CET
DTSTART:20221030T010000
END:STANDARD
BEGIN:DAYLIGHT
TZOFFSETFROM:+0100
TZOFFSETTO:+0200
TZNAME:CEST
DTSTART:20230326T010000
END:DAYLIGHT
BEGIN:STANDARD
TZOFFSETFROM:+0200
TZOFFSETTO:+0100
TZNAME:CET
DTSTART:20231029T010000
END:STANDARD
END:VTIMEZONE
BEGIN:VEVENT
DTSTART;TZID=Europe/Berlin:20220821T000000
DTEND;TZID=Europe/Berlin:20220825T000000
DTSTAMP:20260424T100607
CREATED:20220510T094234Z
LAST-MODIFIED:20220510T100802Z
UID:11895-1661040000-1661385600@treibhaus-doebeln.de
SUMMARY:Jugendbegegnung: „Wer bist Du? Wer bin Ich?“
DESCRIPTION:Jugendbegegnung: „Wer bist Du? Wer bin Ich?“\nAn einem unbekannten Ort ankommen und fremden Gesichtern begegnen ist eine Herausforderung die wir uns im gesamten Leben immer wieder zu stellen haben. Wenn dann noch eine andere Sprache gesprochen wird heißt es allen Mut zusammennehmen und hinein ins Abenteuer. Dem wollen wir mit allen Sinnen bei Bewegung\, Spiel und Spaß begegnen. Geplant sind Tageswanderung mit Picknick\, Nachtwanderung\, so wie unter anderem eine Schlauchbootfahrt. Neben naturnahen Aktivitäten wird es auch Raum für Kreativität und besinnliche Ruhe geben. Dabei werden Übungen aus der Erlebnispädagogik integriert um die Kinder und Jugendliche spielerisch einander nahezubringen\, Vertrauen aufzubauen und Freundschaften zu schließen. Für eine reibungslose Verständigung und Übersetzung wird gesorgt sein. \n\nTitel: „Wer bist Du? Wer bin Ich?“\nOrt: Klosterbuch\, Deutschland\nZeitraum: 21.08. – 25.08. 2022\nAlter: 8 – 14 Jahre\nBeteiligte Länder: Deutschland\, Ukraine\nKosten: keine\nAnmeldeschluss: 01.07.2022\nKontakt\nVicky Behnisch\nFon: +49 (0) 3431 / 67 86 397\nMail: ija@treibhaus-doebeln.de
URL:https://treibhaus-doebeln.de/event/jugendbegegnung-wer-bist-du-wer-bin-ich/
LOCATION:Klosterbuch\, Klosterbuch 1\, Leisnig\, Sachsen\, 04703
ATTACH;FMTTYPE=image/jpeg:https://treibhaus-doebeln.de/wp-content/uploads/2022/05/IJB-Klosterbuch-2022Jul_Fb_220508.jpg
ORGANIZER;CN="Treibhaus e.V. D%C3%B6beln":MAILTO:info@treibhaus-doebeln.de
END:VEVENT
END:VCALENDAR