BEGIN:VCALENDAR
VERSION:2.0
PRODID:-//Treibhaus Döbeln - ECPv6.15.13//NONSGML v1.0//EN
CALSCALE:GREGORIAN
METHOD:PUBLISH
X-WR-CALNAME:Treibhaus Döbeln
X-ORIGINAL-URL:https://treibhaus-doebeln.de
X-WR-CALDESC:Veranstaltungen für Treibhaus Döbeln
REFRESH-INTERVAL;VALUE=DURATION:PT1H
X-Robots-Tag:noindex
X-PUBLISHED-TTL:PT1H
BEGIN:VTIMEZONE
TZID:Europe/Berlin
BEGIN:DAYLIGHT
TZOFFSETFROM:+0100
TZOFFSETTO:+0200
TZNAME:CEST
DTSTART:20210328T010000
END:DAYLIGHT
BEGIN:STANDARD
TZOFFSETFROM:+0200
TZOFFSETTO:+0100
TZNAME:CET
DTSTART:20211031T010000
END:STANDARD
BEGIN:DAYLIGHT
TZOFFSETFROM:+0100
TZOFFSETTO:+0200
TZNAME:CEST
DTSTART:20220327T010000
END:DAYLIGHT
BEGIN:STANDARD
TZOFFSETFROM:+0200
TZOFFSETTO:+0100
TZNAME:CET
DTSTART:20221030T010000
END:STANDARD
BEGIN:DAYLIGHT
TZOFFSETFROM:+0100
TZOFFSETTO:+0200
TZNAME:CEST
DTSTART:20230326T010000
END:DAYLIGHT
BEGIN:STANDARD
TZOFFSETFROM:+0200
TZOFFSETTO:+0100
TZNAME:CET
DTSTART:20231029T010000
END:STANDARD
END:VTIMEZONE
BEGIN:VEVENT
DTSTART;TZID=Europe/Berlin:20220808T000000
DTEND;TZID=Europe/Berlin:20220817T000000
DTSTAMP:20260424T115002
CREATED:20220510T095615Z
LAST-MODIFIED:20220510T095957Z
UID:11904-1659916800-1660694400@treibhaus-doebeln.de
SUMMARY:Jugendbegegnung: „Tanzcamp an der polnischen Ostsee“
DESCRIPTION:Jugendbegegnung: „Tanzcamp an der polnischen Ostsee“\nTanz und Kreativität stehen bei dieser internationalen Jugendbegegnung im Mittelpunkt. Dabei werden sich die Kinder und Jugendlichen mit verschiedenen Tanzstilen wie Hip Hop und Video Clip Tanz beschäftigen. Vorerfahrungen sind keine notwendig. Jeder darf sich im Rahmen des Projektes kreativ ausprobieren. Während des Aufenthaltes nehmen alle an Tanz\, Theater\, Kunst und Musik Workshops teil. Organisierte Ausflüge zum Aquapark\, Gdańsk\, Krynica Morska und zur Ostsee sind ebenfalls fester Bestandteil der Begegnung\, so wie Internationale Begegnungs-\, Spiel- und Discoabende. Es müssen keine Fremdsprachenkenntnisse vorhanden sein\, Übersetzer*innen begleiten die Begegnung.\n\nTitel: „Tanzcamp an der polnischen Ostsee“\nOrt: Darłówko\, Polen\nZeitraum: 08.08. – 17.08. 2022\nAlter: 10 – 16 Jahre\nBeteiligte Länder: Deutschland\, Polen\, Spanien\nKosten: keine\nAnmeldeschluss: 16.05.2022\n\nKontakt\nVicky Behnisch\nFon: +49 (0) 3431 / 67 86 397\nMail: ija@treibhaus-doebeln.de \n 
URL:https://treibhaus-doebeln.de/event/jugendbegegnung-tanzcamp-an-der-polnischen-ostsee/
LOCATION:Darłówko\, Polen
CATEGORIES:Begegnung
ATTACH;FMTTYPE=image/jpeg:https://treibhaus-doebeln.de/wp-content/uploads/2022/05/IJB-Darlowo-2022Aug_Fb_220508.jpg
ORGANIZER;CN="Treibhaus e.V. D%C3%B6beln":MAILTO:info@treibhaus-doebeln.de
END:VEVENT
END:VCALENDAR