BEGIN:VCALENDAR
VERSION:2.0
PRODID:-//Treibhaus Döbeln - ECPv6.15.13//NONSGML v1.0//EN
CALSCALE:GREGORIAN
METHOD:PUBLISH
X-WR-CALNAME:Treibhaus Döbeln
X-ORIGINAL-URL:https://treibhaus-doebeln.de
X-WR-CALDESC:Veranstaltungen für Treibhaus Döbeln
REFRESH-INTERVAL;VALUE=DURATION:PT1H
X-Robots-Tag:noindex
X-PUBLISHED-TTL:PT1H
BEGIN:VTIMEZONE
TZID:Europe/Berlin
BEGIN:DAYLIGHT
TZOFFSETFROM:+0100
TZOFFSETTO:+0200
TZNAME:CEST
DTSTART:20230326T010000
END:DAYLIGHT
BEGIN:STANDARD
TZOFFSETFROM:+0200
TZOFFSETTO:+0100
TZNAME:CET
DTSTART:20231029T010000
END:STANDARD
BEGIN:DAYLIGHT
TZOFFSETFROM:+0100
TZOFFSETTO:+0200
TZNAME:CEST
DTSTART:20240331T010000
END:DAYLIGHT
BEGIN:STANDARD
TZOFFSETFROM:+0200
TZOFFSETTO:+0100
TZNAME:CET
DTSTART:20241027T010000
END:STANDARD
BEGIN:DAYLIGHT
TZOFFSETFROM:+0100
TZOFFSETTO:+0200
TZNAME:CEST
DTSTART:20250330T010000
END:DAYLIGHT
BEGIN:STANDARD
TZOFFSETFROM:+0200
TZOFFSETTO:+0100
TZNAME:CET
DTSTART:20251026T010000
END:STANDARD
END:VTIMEZONE
BEGIN:VEVENT
DTSTART;TZID=Europe/Berlin:20240906T183000
DTEND;TZID=Europe/Berlin:20240906T183000
DTSTAMP:20260424T123053
CREATED:20240814T124658Z
LAST-MODIFIED:20240820T075537Z
UID:15994-1725647400-1725647400@treibhaus-doebeln.de
SUMMARY:VORTRAG: DER MENSCH ALS BALLAST
DESCRIPTION:Einlass: 18.30 Uhr // Beginn: 19.30 Uhr // St. Pankratius Kapelle\, Kirchberg 3\, 09306 Wiederau \nDie AG Geschichte lädt zu einem Vortrag über die ehemaligen Heil- und Pflegeanstalt Hochweitzschen ein\, um über die von den Nationalsozialisten verübten Verbrechen an Menschen mit körperlichen\, geistigen und seelischen Behinderungen zu informieren. \nDabei wird die Funktion der Klinik Hochweitzschen im Geflecht der Anstalten und Tötungsorte eingeordnet\, die Taten des Klinikpersonals den historischen Ereignissen und Entwicklungen gegenübergestellt und in der Vorstellung ausgewählter Biografien von Patient*innen den bislang meist unbekannten Opfern ein Gesicht gegeben. \nDem Vortrag geht eine dreijährige Recherche der AG Geschichte voraus\, deren Ergebnisse im April 2023 im Buch „Der Mensch als Ballast“ veröffentlicht wurden. \n  \nEintritt frei\, um Spenden wird gebeten. \n 
URL:https://treibhaus-doebeln.de/event/vortrag-der-mensch-als-ballast/
LOCATION:St. Pankratius Kapelle\, Kirchberg 3\, 09306 Wiederau
CATEGORIES:Information,Vortrag
ATTACH;FMTTYPE=image/jpeg:https://treibhaus-doebeln.de/wp-content/uploads/2023/04/2023-Broschuere-Slider-scaled.jpg
ORGANIZER;CN="Treibhaus e.V. D%C3%B6beln":MAILTO:info@treibhaus-doebeln.de
END:VEVENT
END:VCALENDAR