BEGIN:VCALENDAR
VERSION:2.0
PRODID:-//Treibhaus Döbeln - ECPv6.15.13//NONSGML v1.0//EN
CALSCALE:GREGORIAN
METHOD:PUBLISH
X-WR-CALNAME:Treibhaus Döbeln
X-ORIGINAL-URL:https://treibhaus-doebeln.de
X-WR-CALDESC:Veranstaltungen für Treibhaus Döbeln
REFRESH-INTERVAL;VALUE=DURATION:PT1H
X-Robots-Tag:noindex
X-PUBLISHED-TTL:PT1H
BEGIN:VTIMEZONE
TZID:Europe/Berlin
BEGIN:DAYLIGHT
TZOFFSETFROM:+0100
TZOFFSETTO:+0200
TZNAME:CEST
DTSTART:20220327T010000
END:DAYLIGHT
BEGIN:STANDARD
TZOFFSETFROM:+0200
TZOFFSETTO:+0100
TZNAME:CET
DTSTART:20221030T010000
END:STANDARD
BEGIN:DAYLIGHT
TZOFFSETFROM:+0100
TZOFFSETTO:+0200
TZNAME:CEST
DTSTART:20230326T010000
END:DAYLIGHT
BEGIN:STANDARD
TZOFFSETFROM:+0200
TZOFFSETTO:+0100
TZNAME:CET
DTSTART:20231029T010000
END:STANDARD
BEGIN:DAYLIGHT
TZOFFSETFROM:+0100
TZOFFSETTO:+0200
TZNAME:CEST
DTSTART:20240331T010000
END:DAYLIGHT
BEGIN:STANDARD
TZOFFSETFROM:+0200
TZOFFSETTO:+0100
TZNAME:CET
DTSTART:20241027T010000
END:STANDARD
END:VTIMEZONE
BEGIN:VEVENT
DTSTART;TZID=Europe/Berlin:20230917T183000
DTEND;TZID=Europe/Berlin:20230917T213000
DTSTAMP:20260423T023210
CREATED:20230808T083833Z
LAST-MODIFIED:20230914T090349Z
UID:14429-1694975400-1694986200@treibhaus-doebeln.de
SUMMARY:FÄLLT AUS! Lesung mit Postmigrantische Störung & Friend – Es lesen Vân Anh Bach\, Maria Bujanov\, Yasemin Said. Moderation: Irina Nekrasov
DESCRIPTION:DIE LESUNG MUSS LEIDER AUFGRUND VON KRANKHEIT VERSCHOBEN WERDEN!  \nWir laden ein zu postmigrantischen Lesebühne! \nPMS – Postmigrantische Störung ist ein Autor*innenkollektiv\, das sich 2018 in Leipzig gegründet hat. Gemeinsame Aktivitäten des Kollektivs sind: schreiben\, lesen\, essen und Emo-Runden. Die erste Anthologie erschien 2019\, gefolgt von einem weiteren Sammelband 2022. Wir freuen uns Vân Anh Bach\, Maria Bujanov und Irina Nekrasov von PMS auf der Bühne begrüßen zu dürfen. Als weitere Autorin haben sie Yasemin Said eingeladen. Sie hat die letzten Jahre im Dokumentarfilmbereich als freie Autorin und Regisseurin gearbeitet. Mittlerweile ist Yasemin Said im Bereich der sogenannten Integrationsarbeit angekommen. Das sind viele Wände\, gegen die man fährt und genau hier merkt sie\, was ihr am wichtigsten ist\, und das überall – sich mit Leuten zusammenschließen und gemeinsam kämpfen. Die Stärke von Gemeinschaft ist unschlagbar. \nEinlass: 18.30 Uhr\nBeginn: 19.00 Uhr\nEintritt: frei \nDie Veranstaltung findet im Rahmen der interkulturellen Wochen PRISMA statt. Diese Maßnahme wird mitfinanziert durch Steuermittel auf der Grundlage des vom Sächsischen Landtag beschlossenen Haushaltes.
URL:https://treibhaus-doebeln.de/event/postmigrantischen-lesebuehne/
LOCATION:Café Courage\, Bahnhofstraße 56\, Döbeln\, Sachsen\, 04720\, Deutschland
ATTACH;FMTTYPE=image/png:https://treibhaus-doebeln.de/wp-content/uploads/2023/09/PMS_HEADER_ABSAGE.png
ORGANIZER;CN="Treibhaus e.V. D%C3%B6beln":MAILTO:info@treibhaus-doebeln.de
END:VEVENT
END:VCALENDAR